BEGIN:VCALENDAR
VERSION:2.0
PRODID:-//San Javier Deportes - ECPv6.15.18//NONSGML v1.0//EN
CALSCALE:GREGORIAN
METHOD:PUBLISH
X-ORIGINAL-URL:https://deportes.sanjavier.es
X-WR-CALDESC:Eventos para San Javier Deportes
REFRESH-INTERVAL;VALUE=DURATION:PT1H
X-Robots-Tag:noindex
X-PUBLISHED-TTL:PT1H
BEGIN:VTIMEZONE
TZID:Europe/Madrid
BEGIN:DAYLIGHT
TZOFFSETFROM:+0100
TZOFFSETTO:+0200
TZNAME:CEST
DTSTART:20230326T010000
END:DAYLIGHT
BEGIN:STANDARD
TZOFFSETFROM:+0200
TZOFFSETTO:+0100
TZNAME:CET
DTSTART:20231029T010000
END:STANDARD
BEGIN:DAYLIGHT
TZOFFSETFROM:+0100
TZOFFSETTO:+0200
TZNAME:CEST
DTSTART:20240331T010000
END:DAYLIGHT
BEGIN:STANDARD
TZOFFSETFROM:+0200
TZOFFSETTO:+0100
TZNAME:CET
DTSTART:20241027T010000
END:STANDARD
BEGIN:DAYLIGHT
TZOFFSETFROM:+0100
TZOFFSETTO:+0200
TZNAME:CEST
DTSTART:20250330T010000
END:DAYLIGHT
BEGIN:STANDARD
TZOFFSETFROM:+0200
TZOFFSETTO:+0100
TZNAME:CET
DTSTART:20251026T010000
END:STANDARD
END:VTIMEZONE
BEGIN:VEVENT
DTSTART;VALUE=DATE:20240628
DTEND;VALUE=DATE:20240701
DTSTAMP:20260419T224744
CREATED:20240628T090328Z
LAST-MODIFIED:20240628T090415Z
UID:26534-1719532800-1719791999@deportes.sanjavier.es
SUMMARY:II Open Club Padel San Javier
DESCRIPTION:
URL:https://deportes.sanjavier.es/eventos/ii-open-club-padel-san-javier/
CATEGORIES:Torneo
ATTACH;FMTTYPE=image/jpeg:https://deportes.sanjavier.es/wordpress/wp-content/uploads/2024/06/WhatsApp-Image-2024-05-30-at-12.17.03-1.jpeg
END:VEVENT
BEGIN:VEVENT
DTSTART;VALUE=DATE:20240629
DTEND;VALUE=DATE:20240701
DTSTAMP:20260419T224744
CREATED:20240628T084706Z
LAST-MODIFIED:20240628T084920Z
UID:26526-1719619200-1719791999@deportes.sanjavier.es
SUMMARY:Voley Playa. Torneo Federado
DESCRIPTION:
URL:https://deportes.sanjavier.es/eventos/voley-playa-torneo-federado-2/
CATEGORIES:Torneo
ATTACH;FMTTYPE=image/jpeg:https://deportes.sanjavier.es/wordpress/wp-content/uploads/2024/06/TORNEO-FEDERADO-VOLEY-PLAYA-3.jpg
END:VEVENT
BEGIN:VEVENT
DTSTART;VALUE=DATE:20240629
DTEND;VALUE=DATE:20240701
DTSTAMP:20260419T224744
CREATED:20240628T085503Z
LAST-MODIFIED:20240628T091944Z
UID:26528-1719619200-1719791999@deportes.sanjavier.es
SUMMARY:Vela. Campeonato Autonómico Región de Murcia Clase Snipe
DESCRIPTION:
URL:https://deportes.sanjavier.es/eventos/vela-campeonato-autonomico-region-de-murcia-clase-snipe-2/
CATEGORIES:Campeonatos
ATTACH;FMTTYPE=image/png:https://deportes.sanjavier.es/wordpress/wp-content/uploads/2024/06/asfasdfadsfadsfadsfasdfadsfasdfasdfasdfa.png
END:VEVENT
BEGIN:VEVENT
DTSTART;VALUE=DATE:20240630
DTEND;VALUE=DATE:20240701
DTSTAMP:20260419T224744
CREATED:20240628T084437Z
LAST-MODIFIED:20240628T090108Z
UID:26520-1719705600-1719791999@deportes.sanjavier.es
SUMMARY:XIII Vuelta al Mar Menor Calblanque 2024
DESCRIPTION:
URL:https://deportes.sanjavier.es/eventos/mtv-xiii-vuelta-al-mar-menor-calblanque-2024/
CATEGORIES:Jornada
ATTACH;FMTTYPE=image/jpeg:https://deportes.sanjavier.es/wordpress/wp-content/uploads/2024/06/441459047_985563619679410_8259129639610051089_n.jpg
END:VEVENT
END:VCALENDAR