BEGIN:VCALENDAR
VERSION:2.0
PRODID:-//San Javier Deportes - ECPv6.15.18//NONSGML v1.0//EN
CALSCALE:GREGORIAN
METHOD:PUBLISH
X-WR-CALNAME:San Javier Deportes
X-ORIGINAL-URL:https://deportes.sanjavier.es
X-WR-CALDESC:Eventos para San Javier Deportes
REFRESH-INTERVAL;VALUE=DURATION:PT1H
X-Robots-Tag:noindex
X-PUBLISHED-TTL:PT1H
BEGIN:VTIMEZONE
TZID:Europe/Madrid
BEGIN:DAYLIGHT
TZOFFSETFROM:+0100
TZOFFSETTO:+0200
TZNAME:CEST
DTSTART:20250330T010000
END:DAYLIGHT
BEGIN:STANDARD
TZOFFSETFROM:+0200
TZOFFSETTO:+0100
TZNAME:CET
DTSTART:20251026T010000
END:STANDARD
BEGIN:DAYLIGHT
TZOFFSETFROM:+0100
TZOFFSETTO:+0200
TZNAME:CEST
DTSTART:20260329T010000
END:DAYLIGHT
BEGIN:STANDARD
TZOFFSETFROM:+0200
TZOFFSETTO:+0100
TZNAME:CET
DTSTART:20261025T010000
END:STANDARD
BEGIN:DAYLIGHT
TZOFFSETFROM:+0100
TZOFFSETTO:+0200
TZNAME:CEST
DTSTART:20270328T010000
END:DAYLIGHT
BEGIN:STANDARD
TZOFFSETFROM:+0200
TZOFFSETTO:+0100
TZNAME:CET
DTSTART:20271031T010000
END:STANDARD
END:VTIMEZONE
BEGIN:VEVENT
DTSTART;VALUE=DATE:20260125
DTEND;VALUE=DATE:20260609
DTSTAMP:20260425T021529
CREATED:20260121T120550Z
LAST-MODIFIED:20260121T120550Z
UID:41769-1769299200-1780963199@deportes.sanjavier.es
SUMMARY:Dxt Inclusivo. Sin Límites 26:  “180º Menorca Sur”
DESCRIPTION:Dxt Inclusivo. Sin límites 26: 180º Menorca Sur \nDel 25 de enero al 8 de junio de 2026 \nMás Información
URL:https://deportes.sanjavier.es/eventos/dxt-inclusivo-sin-limites-26-180o-menorca-sur/
ATTACH;FMTTYPE=image/png:https://deportes.sanjavier.es/wordpress/wp-content/uploads/2026/01/Proyecto-Cambiar-tamano-de-imagen-2-2026-01-21T130403.321.png
END:VEVENT
BEGIN:VEVENT
DTSTART;TZID=Europe/Madrid:20260425T080000
DTEND;TZID=Europe/Madrid:20260425T140000
DTSTAMP:20260425T021529
CREATED:20260417T073159Z
LAST-MODIFIED:20260421T055635Z
UID:43990-1777104000-1777125600@deportes.sanjavier.es
SUMMARY:Piragüismo. XXV Campeonato Náutico InterUniversidades 2026 25 Aniversario
DESCRIPTION:XXV Campeonato Náutico InterUniversidades 25 Aniversario \nEl sábado 25 de abril \nSantiago de la Ribera \nMás información
URL:https://deportes.sanjavier.es/eventos/piraguismo-xxv-campeonato-nautico-interuniversidades-2026-25-aniversario/
ATTACH;FMTTYPE=image/png:https://deportes.sanjavier.es/wordpress/wp-content/uploads/2026/04/abado-18.png
END:VEVENT
BEGIN:VEVENT
DTSTART;TZID=Europe/Madrid:20260425T080000
DTEND;TZID=Europe/Madrid:20260425T140000
DTSTAMP:20260425T021529
CREATED:20260420T111700Z
LAST-MODIFIED:20260420T111700Z
UID:44079-1777104000-1777125600@deportes.sanjavier.es
SUMMARY:Dxt Escolar. Final Regional de Deportes de Equipo Cadete
DESCRIPTION:Dxt Escolar. Final Regional de Deportes de Equipo Cadete \nEl sábado 25 de abril de 2026\, de 09 a 13h. \nPabellón Auxiliar\, Pabellón El Mirador e IES Ruiz de Alda \nMás Información
URL:https://deportes.sanjavier.es/eventos/dxt-escolar-final-regional-de-deportes-de-equipo-cadete/
ATTACH;FMTTYPE=image/png:https://deportes.sanjavier.es/wordpress/wp-content/uploads/2026/04/abado-28.png
END:VEVENT
BEGIN:VEVENT
DTSTART;TZID=Europe/Madrid:20260425T080000
DTEND;TZID=Europe/Madrid:20260425T200000
DTSTAMP:20260425T021529
CREATED:20260416T090954Z
LAST-MODIFIED:20260421T053648Z
UID:43961-1777104000-1777147200@deportes.sanjavier.es
SUMMARY:Taekwondo. II Jornada de Liga de Poomsae y II Jornada Jornada de la Liga de Combate
DESCRIPTION:II Jornada de Liga de Poomsae \nEl sábado\, 25 de abril de 2026\, de 08 a 14h y de 16 a 20h. \nPabellón La Manga del Mar Menor \nMás Información
URL:https://deportes.sanjavier.es/eventos/taekwondo-ii-jornada-de-liga-de-poomsae/
ATTACH;FMTTYPE=image/png:https://deportes.sanjavier.es/wordpress/wp-content/uploads/2026/04/abado-12.png
END:VEVENT
END:VCALENDAR