BEGIN:VCALENDAR
VERSION:2.0
PRODID:-//San Javier Deportes - ECPv6.15.18//NONSGML v1.0//EN
CALSCALE:GREGORIAN
METHOD:PUBLISH
X-ORIGINAL-URL:https://deportes.sanjavier.es
X-WR-CALDESC:Eventos para San Javier Deportes
REFRESH-INTERVAL;VALUE=DURATION:PT1H
X-Robots-Tag:noindex
X-PUBLISHED-TTL:PT1H
BEGIN:VTIMEZONE
TZID:Europe/Madrid
BEGIN:DAYLIGHT
TZOFFSETFROM:+0100
TZOFFSETTO:+0200
TZNAME:CEST
DTSTART:20210328T010000
END:DAYLIGHT
BEGIN:STANDARD
TZOFFSETFROM:+0200
TZOFFSETTO:+0100
TZNAME:CET
DTSTART:20211031T010000
END:STANDARD
BEGIN:DAYLIGHT
TZOFFSETFROM:+0100
TZOFFSETTO:+0200
TZNAME:CEST
DTSTART:20220327T010000
END:DAYLIGHT
BEGIN:STANDARD
TZOFFSETFROM:+0200
TZOFFSETTO:+0100
TZNAME:CET
DTSTART:20221030T010000
END:STANDARD
BEGIN:DAYLIGHT
TZOFFSETFROM:+0100
TZOFFSETTO:+0200
TZNAME:CEST
DTSTART:20230326T010000
END:DAYLIGHT
BEGIN:STANDARD
TZOFFSETFROM:+0200
TZOFFSETTO:+0100
TZNAME:CET
DTSTART:20231029T010000
END:STANDARD
END:VTIMEZONE
BEGIN:VEVENT
DTSTART;TZID=Europe/Madrid:20220605T100000
DTEND;TZID=Europe/Madrid:20220605T150000
DTSTAMP:20260424T014901
CREATED:20220204T064142Z
LAST-MODIFIED:20220602T052212Z
UID:12345-1654423200-1654441200@deportes.sanjavier.es
SUMMARY:Atletismo. ANIMAL 5K y 10K Academia General del Aire
DESCRIPTION:ANIMAL 5K y 10K Academia General del Aire\nCarrera 100% Solidaria – San Javier \nMás Información
URL:https://deportes.sanjavier.es/eventos/atletismo-animal-5k-y-10k-academia-general-del-aire/
LOCATION:san javier
CATEGORIES:Atletismo,Carrera
END:VEVENT
END:VCALENDAR