BEGIN:VCALENDAR
VERSION:2.0
PRODID:-//San Javier Deportes - ECPv6.15.18//NONSGML v1.0//EN
CALSCALE:GREGORIAN
METHOD:PUBLISH
X-WR-CALNAME:San Javier Deportes
X-ORIGINAL-URL:https://deportes.sanjavier.es
X-WR-CALDESC:Eventos para San Javier Deportes
REFRESH-INTERVAL;VALUE=DURATION:PT1H
X-Robots-Tag:noindex
X-PUBLISHED-TTL:PT1H
BEGIN:VTIMEZONE
TZID:Europe/Madrid
BEGIN:DAYLIGHT
TZOFFSETFROM:+0100
TZOFFSETTO:+0200
TZNAME:CEST
DTSTART:20200329T010000
END:DAYLIGHT
BEGIN:STANDARD
TZOFFSETFROM:+0200
TZOFFSETTO:+0100
TZNAME:CET
DTSTART:20201025T010000
END:STANDARD
BEGIN:DAYLIGHT
TZOFFSETFROM:+0100
TZOFFSETTO:+0200
TZNAME:CEST
DTSTART:20210328T010000
END:DAYLIGHT
BEGIN:STANDARD
TZOFFSETFROM:+0200
TZOFFSETTO:+0100
TZNAME:CET
DTSTART:20211031T010000
END:STANDARD
BEGIN:DAYLIGHT
TZOFFSETFROM:+0100
TZOFFSETTO:+0200
TZNAME:CEST
DTSTART:20220327T010000
END:DAYLIGHT
BEGIN:STANDARD
TZOFFSETFROM:+0200
TZOFFSETTO:+0100
TZNAME:CET
DTSTART:20221030T010000
END:STANDARD
END:VTIMEZONE
BEGIN:VEVENT
DTSTART;TZID=Europe/Madrid:20210915T181500
DTEND;TZID=Europe/Madrid:20211001T210000
DTSTAMP:20260424T175813
CREATED:20210922T081635Z
LAST-MODIFIED:20210922T081646Z
UID:9555-1631729700-1633122000@deportes.sanjavier.es
SUMMARY:Jornadas de Atletismo
DESCRIPTION:Los aficionados al Atletismo tienen una nueva cita en San Javier. En esta ocasión se trata de unas “Jornadas” comprendidas entre el 15 de septiembre y el 1 de Octubre\, organizadas por el programa “Relevo Paralímpico en la Región de Murcia” en colaboración con el Club Deportivo Aidemar y Vive San Javier Team. \nEstas pruebas de atletismo inclusivo que se desarrollarán en las pistas del polideportivo municipal tienen un carácter gratuito y tendrán un horario de tarde (18.15 h.).
URL:https://deportes.sanjavier.es/eventos/jornadas-de-atletismo/
CATEGORIES:Atletismo
ATTACH;FMTTYPE=image/jpeg:https://deportes.sanjavier.es/wordpress/wp-content/uploads/2021/09/atletismo.jpg
END:VEVENT
END:VCALENDAR